BEGIN:VCALENDAR
VERSION:2.0
PRODID:-//KlimaPakt Lippe - ECPv6.0.12//NONSGML v1.0//EN
CALSCALE:GREGORIAN
METHOD:PUBLISH
X-WR-CALNAME:KlimaPakt Lippe
X-ORIGINAL-URL:https://www.klimapakt-lippe.de
X-WR-CALDESC:Veranstaltungen für KlimaPakt Lippe
REFRESH-INTERVAL;VALUE=DURATION:PT1H
X-Robots-Tag:noindex
X-PUBLISHED-TTL:PT1H
BEGIN:VTIMEZONE
TZID:Europe/Berlin
BEGIN:DAYLIGHT
TZOFFSETFROM:+0100
TZOFFSETTO:+0200
TZNAME:CEST
DTSTART:20250330T010000
END:DAYLIGHT
BEGIN:STANDARD
TZOFFSETFROM:+0200
TZOFFSETTO:+0100
TZNAME:CET
DTSTART:20251026T010000
END:STANDARD
END:VTIMEZONE
BEGIN:VEVENT
DTSTART;TZID=Europe/Berlin:20250904T160000
DTEND;TZID=Europe/Berlin:20250904T190000
DTSTAMP:20260421T154948
CREATED:20250721T130434Z
LAST-MODIFIED:20250721T130434Z
UID:30505-1757001600-1757012400@www.klimapakt-lippe.de
SUMMARY:Workshop REGIOtalk
DESCRIPTION:Der Landesverband Regionalbewegung NRW und der Kreis Lippe laden Sie herzlich zum REGIOtalk Workshop „RegionalMarkt OWL: Gemeinsam regionale Wertschöpfung gestalten“\nin die Future Food Factory der TH OWL in Lemgo ein. \nAus Ideen werden Projekte \nDer REGIOtalk „Kreisläufe schließen“ im Februar 2025 hat gezeigt: Es gibt enormes Potenzial und große Bereitschaft zur Zusammenarbeit in der regionalen Ernährungswirtschaft in Ostwestfalen-Lippe. Aus den Gesprächen und Kontakten sind bereits konkrete Initiativen entstanden: \nDer RegionalMarkt OWL nimmt Gestalt an – eine digitale Plattform zur Vermarktung regionaler Produkte mit innovativer Logistiklösung.\nDie Genussreise OWL wird als gastronomisches Format „vom Acker auf den Teller“ gerade entwickelt.\nNeue Kooperationen zwischen Erzeugern\, Verarbeitern und Vermarktern entstehen.\nDas Konzept der Regionalen Wertschöpfungszentren wird weitergedacht. \nWann & Wo?\nDonnerstag\, 4. September 2025\, 16 bis 19 Uhr in der Future Food Factory der TH OWL in Lemgo \nWorkshop-Format: Gemeinsam entwickeln statt nur informieren \nWir wollen nicht nur über Ideen sprechen\, sondern gemeinsam mit Ihnen an konkreten Projekten arbeiten!\nIn interaktiven Break-Out-Sessions entwickeln wir Lösungsansätze und stellen Kooperationsmöglichkeiten vor. \nBitte melden Sie sich bis zum 28. August per E-Mail an: \nDorothea Streich | d.streich@kreis-lippe.de\nAuch für Fragen steht Ihnen Dorothea Streich gerne per Mail oder telefonisch (05231/62-6610) zur Verfügung. \nDie Veranstaltung ist kostenfrei. | Die Anzahl der Plätze ist begrenzt. \nAlles Weitere finden Sie in unserem Flyer.
URL:https://www.klimapakt-lippe.de/event/workshop-regiotalk/
LOCATION:Future Food Factry Lemgo\, Campusallee 15\, Lemgo\, NRW\, 32657\, Deutschland
CATEGORIES:Aktionen,Workshop
ATTACH;FMTTYPE=image/jpeg:https://www.klimapakt-lippe.de/wp-content/uploads/2025/07/Firefly_Zahnrad-und-Werkzeug-Ideen-982105.jpg
END:VEVENT
END:VCALENDAR