BEGIN:VCALENDAR
VERSION:2.0
PRODID:-//KlimaPakt Lippe - ECPv6.0.12//NONSGML v1.0//EN
CALSCALE:GREGORIAN
METHOD:PUBLISH
X-WR-CALNAME:KlimaPakt Lippe
X-ORIGINAL-URL:https://www.klimapakt-lippe.de
X-WR-CALDESC:Veranstaltungen für KlimaPakt Lippe
REFRESH-INTERVAL;VALUE=DURATION:PT1H
X-Robots-Tag:noindex
X-PUBLISHED-TTL:PT1H
BEGIN:VTIMEZONE
TZID:Europe/Berlin
BEGIN:DAYLIGHT
TZOFFSETFROM:+0100
TZOFFSETTO:+0200
TZNAME:CEST
DTSTART:20220327T010000
END:DAYLIGHT
BEGIN:STANDARD
TZOFFSETFROM:+0200
TZOFFSETTO:+0100
TZNAME:CET
DTSTART:20221030T010000
END:STANDARD
END:VTIMEZONE
BEGIN:VEVENT
DTSTART;TZID=Europe/Berlin:20220816T160000
DTEND;TZID=Europe/Berlin:20220816T170000
DTSTAMP:20260426T044735
CREATED:20220629T082235Z
LAST-MODIFIED:20220706T112617Z
UID:18328-1660665600-1660669200@www.klimapakt-lippe.de
SUMMARY:Online-Infoveranstaltung ÖKOPROFIT
DESCRIPTION:Geld sparen und gleichzeitig die Umwelt entlasten – diese beiden Ziele kombiniert ÖKOPROFIT® für die teilnehmenden Unternehmen. Durch die betriebliche Einzelberatung zur Identifizierung von Einsparmöglichkeiten und die Entwicklung von Maßnahmen zur Steigerung der Energieeffizienz rüsten sich die Teilnehmer für die Zukunft und festigen die Basis für nachhaltig erfolgreiches Wirtschaften. \nIn den beiden ersten in Lippe durchgeführten ÖKOPROFIT®-Runden mit rund 20 teilnehmenden Betrieben konnten mit einem Gesamtinvest von knapp 2 Millionen Euro jährliche Einsparungen von mehr als 1\,15 Millionen Euro erzielt werden. \nIm Herbst diesen Jahres soll der dritte Durchgang ÖKOPROFIT® in Lippe starten. Hierfür suchen wir wieder zwischen acht und 15 Unternehmen\, Vereine\, Schulen\, Kitas etc.\, die für rund ein Jahr an dem Projekt teilnehmen und sich noch zukunftsorientierter aufstellen möchten. \nUm Ihnen die Projektdetails vorzustellen\, laden wir Sie herzlich zu einer kompakten digitalen Infoveranstaltung ein. Melden Sie sich hierfür bitte über die E-Mail-Adresse oekoprofit@kreis-lippe.de an\, den Teilnahme-Link für die Veranstaltung schicken wir Ihnen dann einige Tage vor dem Termin zu. \nWir freuen uns auf Ihre Teilnahme!
URL:https://www.klimapakt-lippe.de/event/online-infoveranstaltung-oekoprofit/
LOCATION:Online-Veranstaltung
CATEGORIES:ÖKOPROFIT,Online-Veranstaltung
ATTACH;FMTTYPE=image/jpeg:https://www.klimapakt-lippe.de/wp-content/uploads/2022/04/Gruppenbild-Auszeichnung-Startseite.jpg
END:VEVENT
END:VCALENDAR