BEGIN:VCALENDAR
VERSION:2.0
PRODID:-//KlimaPakt Lippe - ECPv6.0.12//NONSGML v1.0//EN
CALSCALE:GREGORIAN
METHOD:PUBLISH
X-ORIGINAL-URL:https://www.klimapakt-lippe.de
X-WR-CALDESC:Veranstaltungen für KlimaPakt Lippe
REFRESH-INTERVAL;VALUE=DURATION:PT1H
X-Robots-Tag:noindex
X-PUBLISHED-TTL:PT1H
BEGIN:VTIMEZONE
TZID:Europe/Berlin
BEGIN:DAYLIGHT
TZOFFSETFROM:+0100
TZOFFSETTO:+0200
TZNAME:CEST
DTSTART:20200329T010000
END:DAYLIGHT
BEGIN:STANDARD
TZOFFSETFROM:+0200
TZOFFSETTO:+0100
TZNAME:CET
DTSTART:20201025T010000
END:STANDARD
END:VTIMEZONE
BEGIN:VEVENT
DTSTART;TZID=Europe/Berlin:20200318T193000
DTEND;TZID=Europe/Berlin:20200318T200000
DTSTAMP:20260421T104355
CREATED:20200303T160215Z
LAST-MODIFIED:20200303T160809Z
UID:7459-1584559800-1584561600@www.klimapakt-lippe.de
SUMMARY:Radverkehrsförderung beim „Fahrradfreundlichen Kreis Lippe“
DESCRIPTION:Foto ©Birgit Sanders \nLippe im Wandel lädt alle Interessierten zu einem Informations- und Diskussionsabend mit Jürgen Deppemeier\, dem Radverkehrsbeauftragten des Kreises Lippe ein. Details zur kostenlosen Veranstaltung finden Sie auf den Internetseiten von Lippe im Wandel.
URL:https://www.klimapakt-lippe.de/event/radverkehrsfoerderung-beim-fahrradfreundlichen-kreis-lippe/
LOCATION:Wandelwerkstatt\, Friedrichstraße 15\, Detmold\, 32756
CATEGORIES:Veranstaltung eines KlimaPakt-Partners
ATTACH;FMTTYPE=image/png:https://www.klimapakt-lippe.de/wp-content/uploads/2020/02/Wandel-Werkstatt.png
ORGANIZER;CN="Lippe%20im%20Wandel":MAILTO:info@lippeimwandel.de
END:VEVENT
END:VCALENDAR