BEGIN:VCALENDAR
VERSION:2.0
PRODID:-//KlimaPakt Lippe - ECPv6.0.12//NONSGML v1.0//EN
CALSCALE:GREGORIAN
METHOD:PUBLISH
X-WR-CALNAME:KlimaPakt Lippe
X-ORIGINAL-URL:https://www.klimapakt-lippe.de
X-WR-CALDESC:Veranstaltungen für KlimaPakt Lippe
REFRESH-INTERVAL;VALUE=DURATION:PT1H
X-Robots-Tag:noindex
X-PUBLISHED-TTL:PT1H
BEGIN:VTIMEZONE
TZID:Europe/Berlin
BEGIN:DAYLIGHT
TZOFFSETFROM:+0100
TZOFFSETTO:+0200
TZNAME:CEST
DTSTART:20200329T010000
END:DAYLIGHT
BEGIN:STANDARD
TZOFFSETFROM:+0200
TZOFFSETTO:+0100
TZNAME:CET
DTSTART:20201025T010000
END:STANDARD
END:VTIMEZONE
BEGIN:VEVENT
DTSTART;TZID=Europe/Berlin:20200203T190000
DTEND;TZID=Europe/Berlin:20200225T213000
DTSTAMP:20260421T090404
CREATED:20200203T133527Z
LAST-MODIFIED:20200225T151127Z
UID:7252-1580756400-1582666200@www.klimapakt-lippe.de
SUMMARY:Lippe im Wandel e.V. – Das Februar-Programm 2020
DESCRIPTION:Foto ©Birgit Sanders \n  \nLippe im Wandel e. V. ist die Transition Town Initiative für Detmold und Umgebung. Die Wandel-Werkstatt ist die lokale Verortung des Vereins. Sie ist Anlaufstelle für Interessierte\, Veranstaltungsort und Ideenwerkstatt zugleich. Hier gibt es eine Wandelbücherei\, eine Verleihbücherei mit Büchern zum Themenkomplex des Wandels\, ein Umsonst- und Tauschregal\, und in den Öffnungszeiten ist Zeit und Raum zum kennenlernen\, Netzwerken und informieren. Neben regelmäßigen Veranstaltungen finden hier monatlich wechselnde Vorträge und vieles mehr statt. Alle\, die Ideen haben\, sich einbringen wollen\, eine Initiative starten wollen oder Mitstreiter suchen sind herzlich willkommen! \nInformationen zum Februar-Programm gibt es unter www.lippeimwandel.de oder als Download. \n  \n 
URL:https://www.klimapakt-lippe.de/event/lippe-im-wandel-e-v-das-februar-programm-2020/
CATEGORIES:Veranstaltung eines KlimaPakt-Partners
ATTACH;FMTTYPE=image/png:https://www.klimapakt-lippe.de/wp-content/uploads/2020/02/Wandel-Werkstatt.png
ORGANIZER;CN="Lippe%20im%20Wandel":MAILTO:info@lippeimwandel.de
END:VEVENT
END:VCALENDAR