BEGIN:VCALENDAR
VERSION:2.0
PRODID:-//KlimaPakt Lippe - ECPv6.0.12//NONSGML v1.0//EN
CALSCALE:GREGORIAN
METHOD:PUBLISH
X-ORIGINAL-URL:https://www.klimapakt-lippe.de
X-WR-CALDESC:Veranstaltungen für KlimaPakt Lippe
REFRESH-INTERVAL;VALUE=DURATION:PT1H
X-Robots-Tag:noindex
X-PUBLISHED-TTL:PT1H
BEGIN:VTIMEZONE
TZID:Europe/Berlin
BEGIN:DAYLIGHT
TZOFFSETFROM:+0100
TZOFFSETTO:+0200
TZNAME:CEST
DTSTART:20240331T010000
END:DAYLIGHT
BEGIN:STANDARD
TZOFFSETFROM:+0200
TZOFFSETTO:+0100
TZNAME:CET
DTSTART:20241027T010000
END:STANDARD
END:VTIMEZONE
BEGIN:VEVENT
DTSTART;TZID=Europe/Berlin:20240515T140000
DTEND;TZID=Europe/Berlin:20240515T180000
DTSTAMP:20260426T053321
CREATED:20240215T095513Z
LAST-MODIFIED:20240215T095513Z
UID:27795-1715781600-1715796000@www.klimapakt-lippe.de
SUMMARY:Offene Sprechstunde der Verbraucherzentrale NRW
DESCRIPTION:Am 15.05.2024 findet ab 14.00 Uhr im Innovationszentrum des Kreises Lippe eine offene Sprechstunde für individuelle Fragen rund um das Thema Energie\, durch Energieberater Matthias Ansbach von der Verbraucherzentrale NRW\, statt. \nEine vorherige Anmeldung ist nicht erforderlich. Wir freuen uns auf Ihren Besuch!
URL:https://www.klimapakt-lippe.de/event/offene-sprechstunde-der-verbraucherzentrale-nrw/
LOCATION:Innovationszentrum Dörentrup\, Energiepark 2\, Dörentrup\, 32694
CATEGORIES:Energieberatung
ORGANIZER;CN="KlimaPakt%20Lippe%20und%20Verbraucherzentrale%20NRW":MAILTO:detmold.energie@verbraucherzentrale.nrw
END:VEVENT
END:VCALENDAR