BEGIN:VCALENDAR
VERSION:2.0
PRODID:-//KlimaPakt Lippe - ECPv6.0.12//NONSGML v1.0//EN
CALSCALE:GREGORIAN
METHOD:PUBLISH
X-WR-CALNAME:KlimaPakt Lippe
X-ORIGINAL-URL:https://www.klimapakt-lippe.de
X-WR-CALDESC:Veranstaltungen für KlimaPakt Lippe
REFRESH-INTERVAL;VALUE=DURATION:PT1H
X-Robots-Tag:noindex
X-PUBLISHED-TTL:PT1H
BEGIN:VTIMEZONE
TZID:Europe/Berlin
BEGIN:DAYLIGHT
TZOFFSETFROM:+0100
TZOFFSETTO:+0200
TZNAME:CEST
DTSTART:20260329T010000
END:DAYLIGHT
BEGIN:STANDARD
TZOFFSETFROM:+0200
TZOFFSETTO:+0100
TZNAME:CET
DTSTART:20261025T010000
END:STANDARD
END:VTIMEZONE
BEGIN:VEVENT
DTSTART;TZID=Europe/Berlin:20260426T100000
DTEND;TZID=Europe/Berlin:20260426T180000
DTSTAMP:20260426T012551
CREATED:20260324T133408Z
LAST-MODIFIED:20260324T133408Z
UID:31306-1777197600-1777226400@www.klimapakt-lippe.de
SUMMARY:Lügde: Emmermesse
DESCRIPTION:Infostand der Energieberatung zu allen Themen zur energetischen Sanierung\, egal ob Energie sparen\, Photovoltaik\, Heizung oder Dämmung.
URL:https://www.klimapakt-lippe.de/event/luegde-emmermesse-2/
LOCATION:Gewerbegebiet Lügde\, Siemensstraße 2\, Lügde\, 32676\, Deutschland
END:VEVENT
END:VCALENDAR